BEGIN:VCALENDAR
VERSION:2.0
PRODID:-//Plone.org//NONSGML plone.app.event//EN
X-WR-TIMEZONE:Europe/Madrid
BEGIN:VEVENT
SUMMARY:39a Temporada del Cicle Dissabtes\, Música a l'Ateneu
DTSTART;TZID=Europe/Madrid;VALUE=DATE-TIME:20241019T193000
DTSTAMP;VALUE=DATE-TIME:20260423T020835Z
UID:8deb36d8fccd4757b69aac869dd7db0d@www.paeria.cat
CATEGORIES:Música,Cultura
CREATED;VALUE=DATE-TIME:20240926T073900Z
LAST-MODIFIED;VALUE=DATE-TIME:20240926T074133Z
URL:https://www.paeria.cat/ca/actualitat/agenda/39a-temporada-del-cicle-di
 ssabtes-musica-a-lateneu/2024-10-19
END:VEVENT
BEGIN:VTIMEZONE
TZID:Europe/Madrid
X-LIC-LOCATION:Europe/Madrid
BEGIN:DAYLIGHT
DTSTART;VALUE=DATE-TIME:20240331T030000
TZNAME:CEST
TZOFFSETFROM:+0100
TZOFFSETTO:+0200
END:DAYLIGHT
END:VTIMEZONE
END:VCALENDAR
