BEGIN:VCALENDAR
VERSION:2.0
PRODID:-//Plone.org//NONSGML plone.app.event//EN
X-WR-TIMEZONE:Europe/Madrid
BEGIN:VEVENT
SUMMARY:39a Temporada del Cicle Dissabtes\, Música a l'Ateneu
DTSTART;TZID=Europe/Madrid;VALUE=DATE-TIME:20241109T193000
DTSTAMP;VALUE=DATE-TIME:20260423T002110Z
UID:8deb36d8fccd4757b69aac869dd7db0d@www.paeria.cat
CATEGORIES:Música,Cultura
CREATED;VALUE=DATE-TIME:20240926T073900Z
LAST-MODIFIED;VALUE=DATE-TIME:20240926T074133Z
URL:https://www.paeria.cat/ca/actualitat/agenda/39a-temporada-del-cicle-di
 ssabtes-musica-a-lateneu/2024-11-09
END:VEVENT
BEGIN:VTIMEZONE
TZID:Europe/Madrid
X-LIC-LOCATION:Europe/Madrid
BEGIN:STANDARD
DTSTART;VALUE=DATE-TIME:20241027T020000
TZNAME:CET
TZOFFSETFROM:+0200
TZOFFSETTO:+0100
END:STANDARD
END:VTIMEZONE
END:VCALENDAR
