BEGIN:VCALENDAR
VERSION:2.0
PRODID:-//Plone.org//NONSGML plone.app.event//EN
X-WR-TIMEZONE:Europe/Madrid
BEGIN:VEVENT
SUMMARY:3a edició de la Fira del Llibre Crític de Ponent- Lo Crit
DTSTART;TZID=Europe/Madrid;VALUE=DATE-TIME:20241005T100000
DTEND;TZID=Europe/Madrid;VALUE=DATE-TIME:20241005T110000
DTSTAMP;VALUE=DATE-TIME:20260423T053646Z
UID:964d7a3ab59e41168270ef8495e4f041@www.paeria.cat
CATEGORIES:Llibres i literatura,Cultura,Fires\, mostres i mercats
CREATED;VALUE=DATE-TIME:20240921T075500Z
LAST-MODIFIED;VALUE=DATE-TIME:20250514T122636Z
URL:https://www.paeria.cat/ca/actualitat/agenda/3a-edicio-de-la-fira-del-l
 libre-critic-de-ponent-lo-crit
END:VEVENT
BEGIN:VTIMEZONE
TZID:Europe/Madrid
X-LIC-LOCATION:Europe/Madrid
BEGIN:DAYLIGHT
DTSTART;VALUE=DATE-TIME:20240331T030000
TZNAME:CEST
TZOFFSETFROM:+0100
TZOFFSETTO:+0200
END:DAYLIGHT
END:VTIMEZONE
END:VCALENDAR
