BEGIN:VCALENDAR
VERSION:2.0
PRODID:-//Plone.org//NONSGML plone.app.event//EN
X-WR-TIMEZONE:Europe/Madrid
BEGIN:VEVENT
SUMMARY:3a edició Raimat Arts Festival
DTSTART;TZID=Europe/Madrid;VALUE=DATE-TIME:20241004T100000
DTSTAMP;VALUE=DATE-TIME:20260420T172310Z
UID:3c819da90385419690640ee11ebf923c@www.paeria.cat
RRULE:FREQ=DAILY;UNTIL=20241006T000000
CATEGORIES:Música,Cultura
CREATED;VALUE=DATE-TIME:20240927T090408Z
DESCRIPTION:Raimat Arts Festival és una invitació a explorar\, sentir i 
 connectar. Tres dies de música\, gastronomia\, vi i art en una celebraci
 ó del paisatge\, la comunitat i el nostre llegat sostenible.\n\nLa 3a edi
 ció serà del 4 al 6 d’octubre de 2024\, us esperem a Raimat\, Lleida\,
  on cada entrada dona suport a la Fundació Comunitària Raimat Lleida. \n
 \nÉs un gran orgull presentar-nos com el primer festival Water Positive d
 el món\, tornant un milió de litres d’aigua a la Natura.\n\nJunts\, cu
 ltivem un impacte positiu.
LAST-MODIFIED;VALUE=DATE-TIME:20241001T084011Z
URL:https://www.paeria.cat/ca/actualitat/agenda/3a-edicio-raimat-arts-fest
 ival
END:VEVENT
BEGIN:VTIMEZONE
TZID:Europe/Madrid
X-LIC-LOCATION:Europe/Madrid
BEGIN:DAYLIGHT
DTSTART;VALUE=DATE-TIME:20240331T030000
TZNAME:CEST
TZOFFSETFROM:+0100
TZOFFSETTO:+0200
END:DAYLIGHT
END:VTIMEZONE
END:VCALENDAR
