BEGIN:VCALENDAR
VERSION:2.0
PRODID:-//Plone.org//NONSGML plone.app.event//EN
X-WR-TIMEZONE:Europe/Madrid
BEGIN:VEVENT
SUMMARY:4a edició Impacte! Festival de Cinema i Drets Humans de Catalunya
DTSTART;VALUE=DATE:20240411
DTEND;VALUE=DATE:20240415
DTSTAMP;VALUE=DATE-TIME:20260422T145250Z
UID:d83cea0b5e564646bd42537cb6f54786@www.paeria.cat
CATEGORIES:Audiovisuals,Cultura
CREATED;VALUE=DATE-TIME:20240326T170151Z
LAST-MODIFIED;VALUE=DATE-TIME:20240401T101644Z
URL:https://www.paeria.cat/ca/actualitat/agenda/4a-edicio-impacte-festival
 -de-cinema-i-drets-humans-de-catalunya
END:VEVENT
END:VCALENDAR
