BEGIN:VCALENDAR
VERSION:2.0
PRODID:-//Plone.org//NONSGML plone.app.event//EN
X-WR-TIMEZONE:Europe/Madrid
BEGIN:VEVENT
SUMMARY:60è aniversari de les pintures al fresc de Jaume Minguell
DTSTART;TZID=Europe/Madrid;VALUE=DATE-TIME:20240620T180000
DTSTAMP;VALUE=DATE-TIME:20260425T151856Z
UID:576259e7b7b246cd8623039e9b608a14@www.paeria.cat
CATEGORIES:Itineraris i visites,Art,Cultura
CREATED;VALUE=DATE-TIME:20240618T055647Z
LAST-MODIFIED;VALUE=DATE-TIME:20240618T055956Z
URL:https://www.paeria.cat/ca/actualitat/agenda/60e-aniversari-de-les-pint
 ures-al-fresc-de-jaume-minguell
END:VEVENT
BEGIN:VTIMEZONE
TZID:Europe/Madrid
X-LIC-LOCATION:Europe/Madrid
BEGIN:DAYLIGHT
DTSTART;VALUE=DATE-TIME:20240331T030000
TZNAME:CEST
TZOFFSETFROM:+0100
TZOFFSETTO:+0200
END:DAYLIGHT
END:VTIMEZONE
END:VCALENDAR
