BEGIN:VCALENDAR
VERSION:2.0
PRODID:-//Plone.org//NONSGML plone.app.event//EN
X-WR-TIMEZONE:Europe/Madrid
BEGIN:VEVENT
SUMMARY:A tot ritme. Activa’t al Casal 2022-2023
DTSTART;TZID=Europe/Madrid;VALUE=DATE-TIME:20230320T173000
DTEND;TZID=Europe/Madrid;VALUE=DATE-TIME:20230320T193000
DTSTAMP;VALUE=DATE-TIME:20260423T052510Z
UID:32d53a44fbe747fab97cbb0715d798f7@www.paeria.cat
CATEGORIES:Dona,Salut,Públic,Esports
CREATED;VALUE=DATE-TIME:20221207T141504Z
DESCRIPTION:Activitat física per millorar la  coordinació corporal\, l
 ’equilibri\, la flexibilitat i la memòria\, mitjançant el ritme\, la m
 úsica i el moviment.
LAST-MODIFIED;VALUE=DATE-TIME:20240509T070949Z
URL:https://www.paeria.cat/ca/actualitat/agenda/a-tot-ritme-activat-al-cas
 al-2022-2023/2023-03-20
END:VEVENT
BEGIN:VTIMEZONE
TZID:Europe/Madrid
X-LIC-LOCATION:Europe/Madrid
BEGIN:STANDARD
DTSTART;VALUE=DATE-TIME:20221030T020000
TZNAME:CET
TZOFFSETFROM:+0200
TZOFFSETTO:+0100
END:STANDARD
END:VTIMEZONE
END:VCALENDAR
