BEGIN:VCALENDAR
VERSION:2.0
PRODID:-//Plone.org//NONSGML plone.app.event//EN
X-WR-TIMEZONE:Europe/Madrid
BEGIN:VEVENT
SUMMARY:Activitats organitzades amb motiu del Dia Internacional de l'Aigua
DTSTART;TZID=Europe/Madrid;VALUE=DATE-TIME:20240323T100000
DTSTAMP;VALUE=DATE-TIME:20260420T164947Z
UID:f38a2ab5bb7f4ce082af1ebd9ac4f3cc@www.paeria.cat
CATEGORIES:Exposicions,Itineraris i visites,Cultura
CREATED;VALUE=DATE-TIME:20240315T115513Z
LAST-MODIFIED;VALUE=DATE-TIME:20240315T115839Z
URL:https://www.paeria.cat/ca/actualitat/agenda/activitats-organitzades-am
 b-motiu-del-dia-internacional-de-laigua
END:VEVENT
BEGIN:VTIMEZONE
TZID:Europe/Madrid
X-LIC-LOCATION:Europe/Madrid
BEGIN:STANDARD
DTSTART;VALUE=DATE-TIME:20231029T020000
TZNAME:CET
TZOFFSETFROM:+0200
TZOFFSETTO:+0100
END:STANDARD
END:VTIMEZONE
END:VCALENDAR
