BEGIN:VCALENDAR
VERSION:2.0
PRODID:-//Plone.org//NONSGML plone.app.event//EN
X-WR-TIMEZONE:Europe/Madrid
BEGIN:VEVENT
SUMMARY:ADOLESCENTS EN GUERRA\, LA LLEVA DEL BIBERÓ-41 AL SEGRE I A L'EBR
 E
DTSTART;TZID=Europe/Madrid;VALUE=DATE-TIME:20220715T194500
DTSTAMP;VALUE=DATE-TIME:20260421T102340Z
UID:f7e5c26e935140fc95891ca1104f718e@www.paeria.cat
CATEGORIES:Itineraris i visites,Tots els públics
CREATED;VALUE=DATE-TIME:20221221T110645Z
DESCRIPTION:Itinerari per a la Recuperació de la Memòria Democràtica de
  Lleida
LAST-MODIFIED;VALUE=DATE-TIME:20240416T110019Z
URL:https://www.paeria.cat/ca/actualitat/agenda/adolescents-en-guerra-la-l
 leva-del-bibero-41-al-segre-i-a-lebre
END:VEVENT
BEGIN:VTIMEZONE
TZID:Europe/Madrid
X-LIC-LOCATION:Europe/Madrid
BEGIN:DAYLIGHT
DTSTART;VALUE=DATE-TIME:20220327T030000
TZNAME:CEST
TZOFFSETFROM:+0100
TZOFFSETTO:+0200
END:DAYLIGHT
END:VTIMEZONE
END:VCALENDAR
