BEGIN:VCALENDAR
VERSION:2.0
PRODID:-//Plone.org//NONSGML plone.app.event//EN
X-WR-TIMEZONE:Europe/Madrid
BEGIN:VEVENT
SUMMARY:Animac celebra el Dia Internacional del cinema d'animació amb la 
 projecció "En nonbre de la tierra" de DK Welchman / Hugh Welchman
DTSTART;TZID=Europe/Madrid;VALUE=DATE-TIME:20241025T070000
DTEND;TZID=Europe/Madrid;VALUE=DATE-TIME:20241025T083000
DTSTAMP;VALUE=DATE-TIME:20260422T101054Z
UID:1905b8c2c7e449f1b5da5e26b3186905@www.paeria.cat
CATEGORIES:Audiovisuals,Cinema i vídeo
CREATED;VALUE=DATE-TIME:20240704T064340Z
LAST-MODIFIED;VALUE=DATE-TIME:20241021T082719Z
URL:https://www.paeria.cat/ca/actualitat/agenda/animac-celebra-el-dia-inte
 rnacional-del-cinema-danimacio-amb-la-projeccio-en-nonbre-de-la-tierra-de-
 dk-welchman-hugh-welchman
END:VEVENT
BEGIN:VTIMEZONE
TZID:Europe/Madrid
X-LIC-LOCATION:Europe/Madrid
BEGIN:DAYLIGHT
DTSTART;VALUE=DATE-TIME:20240331T030000
TZNAME:CEST
TZOFFSETFROM:+0100
TZOFFSETTO:+0200
END:DAYLIGHT
END:VTIMEZONE
END:VCALENDAR
