BEGIN:VCALENDAR
VERSION:2.0
PRODID:-//Plone.org//NONSGML plone.app.event//EN
X-WR-TIMEZONE:Europe/Madrid
BEGIN:VEVENT
SUMMARY:Aprèn un ofici\, guanya un futur.
DTSTART;TZID=Europe/Madrid;VALUE=DATE-TIME:20260227T111500
DTEND;TZID=Europe/Madrid;VALUE=DATE-TIME:20260227T123000
DTSTAMP;VALUE=DATE-TIME:20260421T012920Z
UID:7ff9cb4dc3c2491db8b8be7251368f44@www.paeria.cat
CATEGORIES:Tallers i cursos
CREATED;VALUE=DATE-TIME:20260219T135649Z
DESCRIPTION:Xerrada per descobrir els oficis de Pintura\, Fusteria i Solda
 dura.\nDissenyada com una experiència pràctica i vivencial per conèixer
  els oficis de prop\, durant la sessió es podran provar eines i materials
  per entendre com es treballa realment\, conèixer els monitors especialit
 zats que guiaran pas a pas les persones participants i parlar amb l’alum
 nat treballador de l’IMO. Ningú millor que ells per explicar el dia a d
 ia als tallers. També es donaran a conèixer les sortides professionals d
 ’aquests oficis.\n\nActivitat programada dins del Saló Forma Ocupa 2026
 .
LAST-MODIFIED;VALUE=DATE-TIME:20260219T160655Z
URL:https://www.paeria.cat/ca/actualitat/agenda/apren-un-ofici-guanya-un-f
 utur
END:VEVENT
BEGIN:VTIMEZONE
TZID:Europe/Madrid
X-LIC-LOCATION:Europe/Madrid
BEGIN:STANDARD
DTSTART;VALUE=DATE-TIME:20251026T020000
TZNAME:CET
TZOFFSETFROM:+0200
TZOFFSETTO:+0100
END:STANDARD
END:VTIMEZONE
END:VCALENDAR
