BEGIN:VCALENDAR
VERSION:2.0
PRODID:-//Plone.org//NONSGML plone.app.event//EN
X-WR-TIMEZONE:Europe/Madrid
BEGIN:VEVENT
SUMMARY:Assaig obert de l'obra Missa Solemnis de Jordi Savall
DTSTART;TZID=Europe/Madrid;VALUE=DATE-TIME:20230428T190000
DTEND;TZID=Europe/Madrid;VALUE=DATE-TIME:20230428T213000
DTSTAMP;VALUE=DATE-TIME:20260420T085611Z
UID:9e3e2e158b994b5eb7f291b15acd8e2b@www.paeria.cat
CATEGORIES:Cultura
CREATED;VALUE=DATE-TIME:20230427T115215Z
DESCRIPTION:La residència artística que el mestre Savall ha estat duent 
 a terme amb la seva orquestra Le concert des Nations i el seu cor La capel
 la Nacional de Catalunya\, durant aquesta setmana a l’Auditori Municipal
  Enric Granados per preparar la Missa Solemnis de Beethoven\, finalitza aq
 uest divendres\, 28 d’abril\, dia en què s’ha programat un assaig obe
 rt (tutti)\, a les 19 hores.\n\nL’entrada és gratuïta però caldrà re
 collir-la prèviament\, a partir de les 17 hores\, a la taquilla de l’Au
 ditori.
LAST-MODIFIED;VALUE=DATE-TIME:20250514T072902Z
URL:https://www.paeria.cat/ca/actualitat/agenda/assaig-obert-de-lobra-miss
 a-solemnis-de-jordi-savall-1
END:VEVENT
BEGIN:VTIMEZONE
TZID:Europe/Madrid
X-LIC-LOCATION:Europe/Madrid
BEGIN:DAYLIGHT
DTSTART;VALUE=DATE-TIME:20230326T030000
TZNAME:CEST
TZOFFSETFROM:+0100
TZOFFSETTO:+0200
END:DAYLIGHT
END:VTIMEZONE
END:VCALENDAR
