BEGIN:VCALENDAR
VERSION:2.0
PRODID:-//Plone.org//NONSGML plone.app.event//EN
X-WR-TIMEZONE:Europe/Madrid
BEGIN:VEVENT
SUMMARY:Xerrada de Jordi Savall i Assaig obert de "Le Concerts des Nations
 " - Finalització de la Segona Residència Artística  de Jordi Savall a l
 'Auditori Municipal Enric Granados
DTSTART;TZID=Europe/Madrid;VALUE=DATE-TIME:20240910T183000
DTEND;TZID=Europe/Madrid;VALUE=DATE-TIME:20240910T203000
DTSTAMP;VALUE=DATE-TIME:20260422T223134Z
UID:394ad965bd524d2b8b0ade63fc1bc579@www.paeria.cat
CATEGORIES:Cultura,Música,Públic
CREATED;VALUE=DATE-TIME:20240708T063146Z
LAST-MODIFIED;VALUE=DATE-TIME:20240906T113319Z
URL:https://www.paeria.cat/ca/actualitat/agenda/assaig-obert-finalitzacio-
 de-la-segona-residencia-artistica-de-jordi-savall-a-lauditori-municipal-en
 ric-granados
END:VEVENT
BEGIN:VTIMEZONE
TZID:Europe/Madrid
X-LIC-LOCATION:Europe/Madrid
BEGIN:DAYLIGHT
DTSTART;VALUE=DATE-TIME:20240331T030000
TZNAME:CEST
TZOFFSETFROM:+0100
TZOFFSETTO:+0200
END:DAYLIGHT
END:VTIMEZONE
END:VCALENDAR
