BEGIN:VCALENDAR
VERSION:2.0
PRODID:-//Plone.org//NONSGML plone.app.event//EN
X-WR-TIMEZONE:Europe/Madrid
BEGIN:VEVENT
SUMMARY:AUDIÈNCIA PÚBLICA DEL PLENARI DELS INFANTS I ADOLESCENTS DE LA C
 IUTAT DE LLEIDA
DTSTART;TZID=Europe/Madrid;VALUE=DATE-TIME:20230613T100000
DTEND;TZID=Europe/Madrid;VALUE=DATE-TIME:20230613T113000
DTSTAMP;VALUE=DATE-TIME:20260422T150644Z
UID:47c40d1571974870831669bf8956f480@www.paeria.cat
CATEGORIES:Infantil
CREATED;VALUE=DATE-TIME:20230612T125547Z
DESCRIPTION:El dimarts 13 de juny es celebrarà l'Audiència del Plenari d
 els infants i adolescents de Lleida. L'acte serà de 10:00h a 11:30h\, on 
 hi participaran els i les diferents representants del Consell d'infants i 
 de joves per explicar el treball realitzat aquest curs 2022-23. La ciutada
 nia el podrà seguir en directe pel canal de youtube de la Paeria.
LAST-MODIFIED;VALUE=DATE-TIME:20230612T125735Z
URL:https://www.paeria.cat/ca/actualitat/agenda/audiencia-publica-del-plen
 ari-dels-infants-i-adolescents-de-la-ciutat-de-lleida
END:VEVENT
BEGIN:VTIMEZONE
TZID:Europe/Madrid
X-LIC-LOCATION:Europe/Madrid
BEGIN:DAYLIGHT
DTSTART;VALUE=DATE-TIME:20230326T030000
TZNAME:CEST
TZOFFSETFROM:+0100
TZOFFSETTO:+0200
END:DAYLIGHT
END:VTIMEZONE
END:VCALENDAR
