BEGIN:VCALENDAR
VERSION:2.0
PRODID:-//Plone.org//NONSGML plone.app.event//EN
X-WR-TIMEZONE:Europe/Madrid
BEGIN:VEVENT
SUMMARY:ENTRADES EXHAURIDES: Avui no ploraré. T de Teatre
DTSTART;TZID=Europe/Madrid;VALUE=DATE-TIME:20260329T190000
DTEND;TZID=Europe/Madrid;VALUE=DATE-TIME:20260329T200000
DTSTAMP;VALUE=DATE-TIME:20260423T181424Z
UID:45d8549432ea451cbdc3bf00d89d61f3@www.paeria.cat
CATEGORIES:Cultura,Teatre
CREATED;VALUE=DATE-TIME:20260116T181649Z
LAST-MODIFIED;VALUE=DATE-TIME:20260325T135622Z
URL:https://www.paeria.cat/ca/actualitat/agenda/avui-no-plorare-t-de-teatr
 e
END:VEVENT
BEGIN:VTIMEZONE
TZID:Europe/Madrid
X-LIC-LOCATION:Europe/Madrid
BEGIN:DAYLIGHT
DTSTART;VALUE=DATE-TIME:20260329T030000
TZNAME:CEST
TZOFFSETFROM:+0100
TZOFFSETTO:+0200
END:DAYLIGHT
END:VTIMEZONE
END:VCALENDAR
