BEGIN:VCALENDAR
VERSION:2.0
PRODID:-//Plone.org//NONSGML plone.app.event//EN
X-WR-TIMEZONE:Europe/Madrid
BEGIN:VEVENT
SUMMARY:BARRI NOGUEROLA: PODER POPULAR ANTIFEIXISTA 1936-1938
DTSTART;TZID=Europe/Madrid;VALUE=DATE-TIME:20260315T100000
DTEND;TZID=Europe/Madrid;VALUE=DATE-TIME:20260315T120000
DTSTAMP;VALUE=DATE-TIME:20260422T185406Z
UID:5bee69c6643a4572923a2034bf3fd609@www.paeria.cat
CATEGORIES:Tots els públics,Ciutadania,Cultura,Itineraris i visites
CREATED;VALUE=DATE-TIME:20260305T141239Z
DESCRIPTION:El pròxim diumenge 15 de març\, a les 10.00 h\, tindrà lloc
  una nova edició dels Itineraris per a la Recuperació de la Memòria Dem
 ocràtica de Lleida\, una iniciativa que té per objectiu preservar\, difo
 ndre i dignificar la memòria històrica de la ciutat. Aquest Itinerari se
 rà conduït per Eva Lega Vidal.
LAST-MODIFIED;VALUE=DATE-TIME:20260306T092204Z
URL:https://www.paeria.cat/ca/actualitat/agenda/barri-noguerola-poder-popu
 lar-antifeixista-1936-1938
END:VEVENT
BEGIN:VTIMEZONE
TZID:Europe/Madrid
X-LIC-LOCATION:Europe/Madrid
BEGIN:STANDARD
DTSTART;VALUE=DATE-TIME:20251026T020000
TZNAME:CET
TZOFFSETFROM:+0200
TZOFFSETTO:+0100
END:STANDARD
END:VTIMEZONE
END:VCALENDAR
