BEGIN:VCALENDAR
VERSION:2.0
PRODID:-//Plone.org//NONSGML plone.app.event//EN
X-WR-TIMEZONE:Europe/Madrid
BEGIN:VEVENT
SUMMARY:ENTRADES EXHAURIDES: Berto Romero LO NUNCA VISTO
DTSTART;TZID=Europe/Madrid;VALUE=DATE-TIME:20240113T203000
DTEND;TZID=Europe/Madrid;VALUE=DATE-TIME:20240113T220000
DTSTAMP;VALUE=DATE-TIME:20260422T195913Z
UID:d6756791d92d4ac2a8d9d61094c2b7f5@www.paeria.cat
CATEGORIES:Cultura,Teatre
CREATED;VALUE=DATE-TIME:20240110T124652Z
LAST-MODIFIED;VALUE=DATE-TIME:20260415T084334Z
URL:https://www.paeria.cat/ca/actualitat/agenda/berto-romero-lo-nunca-vist
 o
END:VEVENT
BEGIN:VTIMEZONE
TZID:Europe/Madrid
X-LIC-LOCATION:Europe/Madrid
BEGIN:STANDARD
DTSTART;VALUE=DATE-TIME:20231029T020000
TZNAME:CET
TZOFFSETFROM:+0200
TZOFFSETTO:+0100
END:STANDARD
END:VTIMEZONE
END:VCALENDAR
