BEGIN:VCALENDAR
VERSION:2.0
PRODID:-//Plone.org//NONSGML plone.app.event//EN
X-WR-TIMEZONE:Europe/Madrid
BEGIN:VEVENT
SUMMARY:Caminada pel camí del riu i els Aiguamolls de Rufea
DTSTART;TZID=Europe/Madrid;VALUE=DATE-TIME:20260322T093000
DTEND;TZID=Europe/Madrid;VALUE=DATE-TIME:20260322T133000
DTSTAMP;VALUE=DATE-TIME:20260423T051335Z
UID:7c659bf68636432db46512108fe3d64c@www.paeria.cat
CATEGORIES:Itineraris i visites,Esports,Sostenibilitat,Tots els públics
CREATED;VALUE=DATE-TIME:20260302T125702Z
DESCRIPTION:Ecoactivitats 2026
LAST-MODIFIED;VALUE=DATE-TIME:20260311T134802Z
URL:https://www.paeria.cat/ca/actualitat/agenda/caminada-pel-cami-del-riu-
 i-els-aiguamolls-de-rufea
END:VEVENT
BEGIN:VTIMEZONE
TZID:Europe/Madrid
X-LIC-LOCATION:Europe/Madrid
BEGIN:STANDARD
DTSTART;VALUE=DATE-TIME:20251026T020000
TZNAME:CET
TZOFFSETFROM:+0200
TZOFFSETTO:+0100
END:STANDARD
END:VTIMEZONE
END:VCALENDAR
