BEGIN:VCALENDAR
VERSION:2.0
PRODID:-//Plone.org//NONSGML plone.app.event//EN
X-WR-TIMEZONE:Europe/Madrid
BEGIN:VEVENT
SUMMARY:Campanya pel Dia Mundial de la Justícia Social
DTSTART;TZID=Europe/Madrid;VALUE=DATE-TIME:20240220T120000
DTEND;TZID=Europe/Madrid;VALUE=DATE-TIME:20240227T130000
DTSTAMP;VALUE=DATE-TIME:20260423T052026Z
UID:0ca08c46fd104b1eb3e51301a8dd0bb8@www.paeria.cat
CATEGORIES:Ciutadania,Dies assenyalats
CREATED;VALUE=DATE-TIME:20240220T135830Z
DESCRIPTION:Un 20 de febrer reivindicatiu de la ciutat de Lleida a favor d
 els drets de totes
LAST-MODIFIED;VALUE=DATE-TIME:20240416T110019Z
URL:https://www.paeria.cat/ca/actualitat/agenda/campanya-pel-dia-mundial-d
 e-la-justicia-social
END:VEVENT
BEGIN:VTIMEZONE
TZID:Europe/Madrid
X-LIC-LOCATION:Europe/Madrid
BEGIN:STANDARD
DTSTART;VALUE=DATE-TIME:20231029T020000
TZNAME:CET
TZOFFSETFROM:+0200
TZOFFSETTO:+0100
END:STANDARD
END:VTIMEZONE
END:VCALENDAR
