BEGIN:VCALENDAR
VERSION:2.0
PRODID:-//Plone.org//NONSGML plone.app.event//EN
X-WR-TIMEZONE:Europe/Madrid
BEGIN:VEVENT
SUMMARY:Carlos Bunga. Juxtaposicions. Un joc de 576 pàgines\, 12 figures\
 , 9 colors. A cura de Ricard Ibernon Pons amb la complicitat d'Anna Roigé
DTSTART;TZID=Europe/Madrid;VALUE=DATE-TIME:20250222T120000
DTEND;TZID=Europe/Madrid;VALUE=DATE-TIME:20250525T140000
DTSTAMP;VALUE=DATE-TIME:20260422T190217Z
UID:dd3403b8469848fca925b0e8cf9fc750@www.paeria.cat
CATEGORIES:Exposicions
CREATED;VALUE=DATE-TIME:20250219T130150Z
LAST-MODIFIED;VALUE=DATE-TIME:20250428T092735Z
URL:https://www.paeria.cat/ca/actualitat/agenda/carlos-bunga-juxtaposicion
 s-un-joc-de-576-pagines-12-figures-9-colors-a-cura-de-ricard-ibernon-pons-
 amb-la-complicitat-danna-roige
END:VEVENT
BEGIN:VTIMEZONE
TZID:Europe/Madrid
X-LIC-LOCATION:Europe/Madrid
BEGIN:STANDARD
DTSTART;VALUE=DATE-TIME:20241027T020000
TZNAME:CET
TZOFFSETFROM:+0200
TZOFFSETTO:+0100
END:STANDARD
BEGIN:DAYLIGHT
DTSTART;VALUE=DATE-TIME:20250330T030000
TZNAME:CEST
TZOFFSETFROM:+0100
TZOFFSETTO:+0200
END:DAYLIGHT
END:VTIMEZONE
END:VCALENDAR
