BEGIN:VCALENDAR
VERSION:2.0
PRODID:-//Plone.org//NONSGML plone.app.event//EN
X-WR-TIMEZONE:Europe/Madrid
BEGIN:VEVENT
SUMMARY:CARTES AL PARE NOEL I PATGE DELS REIS MAGS DE L'ORIENT
DTSTART;TZID=Europe/Madrid;VALUE=DATE-TIME:20231209T180000
DTEND;TZID=Europe/Madrid;VALUE=DATE-TIME:20240104T193000
DTSTAMP;VALUE=DATE-TIME:20260422T113425Z
UID:6770467e9f3b4a249425d09ccf27e57e@www.paeria.cat
CATEGORIES:Infantil,Cultura,Cultura popular
CREATED;VALUE=DATE-TIME:20231129T103231Z
DESCRIPTION:L'Associació de Comerciants de Democràcia i Cardenal Remolin
 s acull en la seva caseta de Nadal al Pare Noel i el patge dels  Reis Mags
  per recollir les cartes amb els desitjos dels infants.
LAST-MODIFIED;VALUE=DATE-TIME:20250514T122340Z
URL:https://www.paeria.cat/ca/actualitat/agenda/cartes-al-pare-noel-i-patg
 e-dels-reis-mags-de-lorient
END:VEVENT
BEGIN:VTIMEZONE
TZID:Europe/Madrid
X-LIC-LOCATION:Europe/Madrid
BEGIN:STANDARD
DTSTART;VALUE=DATE-TIME:20231029T020000
TZNAME:CET
TZOFFSETFROM:+0200
TZOFFSETTO:+0100
END:STANDARD
END:VTIMEZONE
END:VCALENDAR
