BEGIN:VCALENDAR
VERSION:2.0
PRODID:-//Plone.org//NONSGML plone.app.event//EN
X-WR-TIMEZONE:Europe/Madrid
BEGIN:VEVENT
SUMMARY:CARTES AMAGADES. (DE QUAN LA RÀDIO VOLIA FER OBLIDAR L’EXILI RE
 PUBLICÀ)
DTSTART;TZID=Europe/Madrid;VALUE=DATE-TIME:20240709T183000
DTSTAMP;VALUE=DATE-TIME:20260423T022149Z
UID:95230cb60d8e4b01b65c192d0e8b7468@www.paeria.cat
CATEGORIES:Tots els públics,Xerrades i conferències
CREATED;VALUE=DATE-TIME:20240708T084609Z
DESCRIPTION:Espectacle de música i textos.
LAST-MODIFIED;VALUE=DATE-TIME:20250514T130756Z
URL:https://www.paeria.cat/ca/actualitat/agenda/cartes-amagades-de-quan-la
 -radio-volia-fer-oblidar-l2019exili-republica
END:VEVENT
BEGIN:VTIMEZONE
TZID:Europe/Madrid
X-LIC-LOCATION:Europe/Madrid
BEGIN:DAYLIGHT
DTSTART;VALUE=DATE-TIME:20240331T030000
TZNAME:CEST
TZOFFSETFROM:+0100
TZOFFSETTO:+0200
END:DAYLIGHT
END:VTIMEZONE
END:VCALENDAR
