BEGIN:VCALENDAR
VERSION:2.0
PRODID:-//Plone.org//NONSGML plone.app.event//EN
X-WR-TIMEZONE:Europe/Madrid
BEGIN:VEVENT
SUMMARY:Censos de fauna als espais renaturalitzats de Lleida: La Seu Vella
DTSTART;TZID=Europe/Madrid;VALUE=DATE-TIME:20250524T090000
DTEND;TZID=Europe/Madrid;VALUE=DATE-TIME:20250524T133000
DTSTAMP;VALUE=DATE-TIME:20260423T002019Z
UID:207783e1552a4426bbec5dd2cdd95bb3@www.paeria.cat
CATEGORIES:Adult,Itineraris i visites
CREATED;VALUE=DATE-TIME:20250213T115113Z
DESCRIPTION:Ecoactivitats 2025
LAST-MODIFIED;VALUE=DATE-TIME:20250519T092837Z
URL:https://www.paeria.cat/ca/actualitat/agenda/censos-de-fauna-als-espais
 -renaturalitzats-de-lleida-la-seu-vella
END:VEVENT
BEGIN:VTIMEZONE
TZID:Europe/Madrid
X-LIC-LOCATION:Europe/Madrid
BEGIN:DAYLIGHT
DTSTART;VALUE=DATE-TIME:20250330T030000
TZNAME:CEST
TZOFFSETFROM:+0100
TZOFFSETTO:+0200
END:DAYLIGHT
END:VTIMEZONE
END:VCALENDAR
