BEGIN:VCALENDAR
VERSION:2.0
PRODID:-//Plone.org//NONSGML plone.app.event//EN
X-WR-TIMEZONE:Europe/Madrid
BEGIN:VEVENT
SUMMARY:Cicle de Cinema Francès en homenatge a Jaume Magre “Ascensor pa
 ra el cadalso”
DTSTART;TZID=Europe/Madrid;VALUE=DATE-TIME:20240215T193000
DTSTAMP;VALUE=DATE-TIME:20260422T214909Z
UID:cdd441cac7cc4407b99c35e957cfe069@www.paeria.cat
CREATED;VALUE=DATE-TIME:20240129T161237Z
DESCRIPTION:Coordina Juan Ferrer
LAST-MODIFIED;VALUE=DATE-TIME:20240207T143045Z
URL:https://www.paeria.cat/ca/actualitat/agenda/cicle-de-cinema-frances-en
 -homenatge-a-jaume-magre-1
END:VEVENT
BEGIN:VTIMEZONE
TZID:Europe/Madrid
X-LIC-LOCATION:Europe/Madrid
BEGIN:STANDARD
DTSTART;VALUE=DATE-TIME:20231029T020000
TZNAME:CET
TZOFFSETFROM:+0200
TZOFFSETTO:+0100
END:STANDARD
END:VTIMEZONE
END:VCALENDAR
