BEGIN:VCALENDAR
VERSION:2.0
PRODID:-//Plone.org//NONSGML plone.app.event//EN
X-WR-TIMEZONE:Europe/Madrid
BEGIN:VEVENT
SUMMARY:Cicle de Cinema Francès en homenatge a Jaume Magre “Diplomacia
 ”
DTSTART;TZID=Europe/Madrid;VALUE=DATE-TIME:20240314T193000
DTSTAMP;VALUE=DATE-TIME:20260425T003228Z
UID:d51b550a2dc340e3ad612b77584530be@www.paeria.cat
CREATED;VALUE=DATE-TIME:20240129T171709Z
DESCRIPTION:Coordina Juan Ferrer
LAST-MODIFIED;VALUE=DATE-TIME:20240207T143243Z
URL:https://www.paeria.cat/ca/actualitat/agenda/cicle-de-cinema-frances-en
 -homenatge-a-jaume-magre-4
END:VEVENT
BEGIN:VTIMEZONE
TZID:Europe/Madrid
X-LIC-LOCATION:Europe/Madrid
BEGIN:STANDARD
DTSTART;VALUE=DATE-TIME:20231029T020000
TZNAME:CET
TZOFFSETFROM:+0200
TZOFFSETTO:+0100
END:STANDARD
END:VTIMEZONE
END:VCALENDAR
