BEGIN:VCALENDAR
VERSION:2.0
PRODID:-//Plone.org//NONSGML plone.app.event//EN
X-WR-TIMEZONE:Europe/Madrid
BEGIN:VEVENT
SUMMARY:Cicle de Cinema Francès en homenatge a Jaume Magre “El rayo ver
 de”
DTSTART;TZID=Europe/Madrid;VALUE=DATE-TIME:20240307T193000
DTSTAMP;VALUE=DATE-TIME:20260423T122450Z
UID:ec0b8bb1b97f4bc9a16971a3f7951025@www.paeria.cat
CREATED;VALUE=DATE-TIME:20240130T092328Z
DESCRIPTION:Coordina Juan Ferrer
LAST-MODIFIED;VALUE=DATE-TIME:20240207T143408Z
URL:https://www.paeria.cat/ca/actualitat/agenda/cicle-de-cinema-frances-en
 -homenatge-a-jaume-magre-6
END:VEVENT
BEGIN:VTIMEZONE
TZID:Europe/Madrid
X-LIC-LOCATION:Europe/Madrid
BEGIN:STANDARD
DTSTART;VALUE=DATE-TIME:20231029T020000
TZNAME:CET
TZOFFSETFROM:+0200
TZOFFSETTO:+0100
END:STANDARD
END:VTIMEZONE
END:VCALENDAR
