BEGIN:VCALENDAR
VERSION:2.0
PRODID:-//Plone.org//NONSGML plone.app.event//EN
X-WR-TIMEZONE:Europe/Madrid
BEGIN:VEVENT
SUMMARY:Cicle de cinema- Univers Agnès Varda
DTSTART;TZID=Europe/Madrid;VALUE=DATE-TIME:20240805T200000
DTSTAMP;VALUE=DATE-TIME:20260424T122642Z
UID:59b01117f8d24d68a994e37fc54842d5@www.paeria.cat
CATEGORIES:Audiovisuals,Cinema i vídeo,Cultura
CREATED;VALUE=DATE-TIME:20240729T090702Z
LAST-MODIFIED;VALUE=DATE-TIME:20240729T091134Z
URL:https://www.paeria.cat/ca/actualitat/agenda/cicle-de-cinema-univers-ag
 nes-varda/2024-08-05
END:VEVENT
BEGIN:VTIMEZONE
TZID:Europe/Madrid
X-LIC-LOCATION:Europe/Madrid
BEGIN:DAYLIGHT
DTSTART;VALUE=DATE-TIME:20240331T030000
TZNAME:CEST
TZOFFSETFROM:+0100
TZOFFSETTO:+0200
END:DAYLIGHT
END:VTIMEZONE
END:VCALENDAR
