BEGIN:VCALENDAR
VERSION:2.0
PRODID:-//Plone.org//NONSGML plone.app.event//EN
X-WR-TIMEZONE:Europe/Madrid
BEGIN:VEVENT
SUMMARY:Cicle de conferències : Parlem de música\, una eina per anar de 
 concert “L’OBC i la Reforma de Mendelssohn” – Comentaris al concer
 t
DTSTART;TZID=Europe/Madrid;VALUE=DATE-TIME:20250129T183000
DTEND;TZID=Europe/Madrid;VALUE=DATE-TIME:20250129T193000
DTSTAMP;VALUE=DATE-TIME:20260422T133117Z
UID:4ed54589525d49f585f70c1fb1d72be0@www.paeria.cat
CATEGORIES:Cultura,Xerrades i conferències,Música
CREATED;VALUE=DATE-TIME:20241129T081527Z
DESCRIPTION:Conferència vinculada al concert de l'OBC que tindrà lloc el
  7 de febrer a l'Auditori
LAST-MODIFIED;VALUE=DATE-TIME:20250514T121253Z
URL:https://www.paeria.cat/ca/actualitat/agenda/cicle-de-conferencies-parl
 em-de-musica-una-eina-per-anar-de-concert-201cl2019obc-i-la-reforma-de-men
 delssohn201d-2013-comentaris-al-concert
END:VEVENT
BEGIN:VTIMEZONE
TZID:Europe/Madrid
X-LIC-LOCATION:Europe/Madrid
BEGIN:STANDARD
DTSTART;VALUE=DATE-TIME:20241027T020000
TZNAME:CET
TZOFFSETFROM:+0200
TZOFFSETTO:+0100
END:STANDARD
END:VTIMEZONE
END:VCALENDAR
