BEGIN:VCALENDAR
VERSION:2.0
PRODID:-//Plone.org//NONSGML plone.app.event//EN
X-WR-TIMEZONE:Europe/Madrid
BEGIN:VEVENT
SUMMARY:MAGRE I LA DOCÈNCIA
DTSTART;TZID=Europe/Madrid;VALUE=DATE-TIME:20240404T190000
DTSTAMP;VALUE=DATE-TIME:20260422T214846Z
UID:165e3d7cc1064a6ca2d4877eddbc5f6f@www.paeria.cat
CREATED;VALUE=DATE-TIME:20240131T152145Z
DESCRIPTION:Taula rodona moderada per Pau Echauz\, amb Paquita Sanvicén\,
  Àngels Santa i Glòria Peret
LAST-MODIFIED;VALUE=DATE-TIME:20240207T143440Z
URL:https://www.paeria.cat/ca/actualitat/agenda/cicle-de-taules-rodones-so
 bre-la-figura-de-jaume-magre
END:VEVENT
BEGIN:VTIMEZONE
TZID:Europe/Madrid
X-LIC-LOCATION:Europe/Madrid
BEGIN:DAYLIGHT
DTSTART;VALUE=DATE-TIME:20240331T030000
TZNAME:CEST
TZOFFSETFROM:+0100
TZOFFSETTO:+0200
END:DAYLIGHT
END:VTIMEZONE
END:VCALENDAR
