BEGIN:VCALENDAR
VERSION:2.0
PRODID:-//Plone.org//NONSGML plone.app.event//EN
X-WR-TIMEZONE:Europe/Madrid
BEGIN:VEVENT
SUMMARY:CICLE VESPRES EN VERS 2023 - Rosa Fabregat\, noranta anys persegui
 nt la bellesa en cada cosa
DTSTART;TZID=Europe/Madrid;VALUE=DATE-TIME:20231018T190000
DTEND;TZID=Europe/Madrid;VALUE=DATE-TIME:20231018T200000
DTSTAMP;VALUE=DATE-TIME:20260422T185711Z
UID:628a8d64d8774d368de3c497f32a4e89@www.paeria.cat
CATEGORIES:Cultura,Llibres i literatura
CREATED;VALUE=DATE-TIME:20230907T082443Z
LAST-MODIFIED;VALUE=DATE-TIME:20251104T135449Z
URL:https://www.paeria.cat/ca/actualitat/agenda/cicle-vespres-en-vers-2023
 -rosa-fabregat-noranta-anys-perseguint-la-bellesa-en-cada-cosa
END:VEVENT
BEGIN:VTIMEZONE
TZID:Europe/Madrid
X-LIC-LOCATION:Europe/Madrid
BEGIN:DAYLIGHT
DTSTART;VALUE=DATE-TIME:20230326T030000
TZNAME:CEST
TZOFFSETFROM:+0100
TZOFFSETTO:+0200
END:DAYLIGHT
END:VTIMEZONE
END:VCALENDAR
