BEGIN:VCALENDAR
VERSION:2.0
PRODID:-//Plone.org//NONSGML plone.app.event//EN
X-WR-TIMEZONE:Europe/Madrid
BEGIN:VEVENT
SUMMARY:Cicle LLETRES\, PUNT DE TROBADA: de l’escriptura a la lectura
DTSTART;TZID=Europe/Madrid;VALUE=DATE-TIME:20240912T190000
DTEND;TZID=Europe/Madrid;VALUE=DATE-TIME:20240912T200000
DTSTAMP;VALUE=DATE-TIME:20260422T163814Z
UID:87a0e4d997d0478b8c2f8405321e445b@www.paeria.cat
CATEGORIES:Llibres i literatura
CREATED;VALUE=DATE-TIME:20240903T060738Z
LAST-MODIFIED;VALUE=DATE-TIME:20251104T135615Z
URL:https://www.paeria.cat/ca/actualitat/agenda/ciclecicle-lletres-punt-de
 -trobada-de-l2019escriptura-a-la-lectura-lletres-punt-de-trobada-de-l2019e
 scriptura-a-la-lectura
END:VEVENT
BEGIN:VTIMEZONE
TZID:Europe/Madrid
X-LIC-LOCATION:Europe/Madrid
BEGIN:DAYLIGHT
DTSTART;VALUE=DATE-TIME:20240331T030000
TZNAME:CEST
TZOFFSETFROM:+0100
TZOFFSETTO:+0200
END:DAYLIGHT
END:VTIMEZONE
END:VCALENDAR
