BEGIN:VCALENDAR
VERSION:2.0
PRODID:-//Plone.org//NONSGML plone.app.event//EN
X-WR-TIMEZONE:Europe/Madrid
BEGIN:VEVENT
SUMMARY:CIRCUIT FOLC- Concert Momi Maiga
DTSTART;TZID=Europe/Madrid;VALUE=DATE-TIME:20241115T193000
DTSTAMP;VALUE=DATE-TIME:20260424T103037Z
UID:d86d12f15f244f8da0911a513b9b1821@www.paeria.cat
CATEGORIES:Música,Cultura
CREATED;VALUE=DATE-TIME:20241107T090203Z
LAST-MODIFIED;VALUE=DATE-TIME:20241107T090551Z
URL:https://www.paeria.cat/ca/actualitat/agenda/circuit-folc-concert-momi-
 maiga
END:VEVENT
BEGIN:VTIMEZONE
TZID:Europe/Madrid
X-LIC-LOCATION:Europe/Madrid
BEGIN:STANDARD
DTSTART;VALUE=DATE-TIME:20241027T020000
TZNAME:CET
TZOFFSETFROM:+0200
TZOFFSETTO:+0100
END:STANDARD
END:VTIMEZONE
END:VCALENDAR
