BEGIN:VCALENDAR
VERSION:2.0
PRODID:-//Plone.org//NONSGML plone.app.event//EN
X-WR-TIMEZONE:Europe/Madrid
BEGIN:VEVENT
SUMMARY:Clàssica oberta- Cafè concert Nora Buschmann
DTSTART;TZID=Europe/Madrid;VALUE=DATE-TIME:20241019T200000
DTSTAMP;VALUE=DATE-TIME:20260423T224040Z
UID:9fee17f670074a90950d9e47bbe07997@www.paeria.cat
CATEGORIES:Música,Cultura
CREATED;VALUE=DATE-TIME:20240730T154417Z
LAST-MODIFIED;VALUE=DATE-TIME:20240730T154800Z
URL:https://www.paeria.cat/ca/actualitat/agenda/classica-oberta-cafe-conce
 rt-nora-buschmann
END:VEVENT
BEGIN:VTIMEZONE
TZID:Europe/Madrid
X-LIC-LOCATION:Europe/Madrid
BEGIN:DAYLIGHT
DTSTART;VALUE=DATE-TIME:20240331T030000
TZNAME:CEST
TZOFFSETFROM:+0100
TZOFFSETTO:+0200
END:DAYLIGHT
END:VTIMEZONE
END:VCALENDAR
