BEGIN:VCALENDAR
VERSION:2.0
PRODID:-//Plone.org//NONSGML plone.app.event//EN
X-WR-TIMEZONE:Europe/Madrid
BEGIN:VEVENT
SUMMARY:COMMEMORACIÓ 81è ANIVERSARI DE L’ALLIBERAMENT DEL CAMP DE CONC
 ENTRACIÓ DE MAUTHAUSEN
DTSTART;TZID=Europe/Madrid;VALUE=DATE-TIME:20260505T180000
DTEND;TZID=Europe/Madrid;VALUE=DATE-TIME:20260505T193000
DTSTAMP;VALUE=DATE-TIME:20260425T014224Z
UID:64ad4095fc8c4cb1a70666735214d2d7@www.paeria.cat
CATEGORIES:Cultura,Joves,Tots els públics
CREATED;VALUE=DATE-TIME:20260424T103207Z
DESCRIPTION:L’acte\, organitzat per Memòria Democràtica de l’Ajuntam
 ent de Lleida\, amb la col·laboració de l’Amical de Mauthausen\, el Ce
 ntre Excursionista de Lleida i el Grup de Treball DEMD\, vol recordar les 
 víctimes de la deportació\, dignificar-ne la memòria i reafirmar el com
 promís amb la veritat\, la justícia\, la reparació i la no-repetició.
LAST-MODIFIED;VALUE=DATE-TIME:20260424T103818Z
URL:https://www.paeria.cat/ca/actualitat/agenda/commemoracio-81e-aniversar
 i-de-l2019alliberament-del-camp-de-concentracio-de-mauthausen
END:VEVENT
BEGIN:VTIMEZONE
TZID:Europe/Madrid
X-LIC-LOCATION:Europe/Madrid
BEGIN:DAYLIGHT
DTSTART;VALUE=DATE-TIME:20260329T030000
TZNAME:CEST
TZOFFSETFROM:+0100
TZOFFSETTO:+0200
END:DAYLIGHT
END:VTIMEZONE
END:VCALENDAR
