BEGIN:VCALENDAR
VERSION:2.0
PRODID:-//Plone.org//NONSGML plone.app.event//EN
X-WR-TIMEZONE:Europe/Madrid
BEGIN:VEVENT
SUMMARY:CONCERT DE NADAL. “CARMEN”. BANDA MUNICIPAL DE LLEIDA
DTSTART;TZID=Europe/Madrid;VALUE=DATE-TIME:20241222T190000
DTEND;TZID=Europe/Madrid;VALUE=DATE-TIME:20241222T203000
DTSTAMP;VALUE=DATE-TIME:20260423T102453Z
UID:524850133d574eb4af03e401ad9385d1@www.paeria.cat
CATEGORIES:Cultura,Públic,Música
CREATED;VALUE=DATE-TIME:20240709T111334Z
DESCRIPTION:La Banda Municipal de Lleida i Espai Dansa presenten una adapt
 ació de l’òpera Carmen en què també participen la mezzosoprano Paula
  Costes i el tenor Francesc Rodoreda.
LAST-MODIFIED;VALUE=DATE-TIME:20250514T124857Z
URL:https://www.paeria.cat/ca/actualitat/agenda/concert-de-nadal-201ccarme
 n201d-banda-municipal-de-lleida
END:VEVENT
BEGIN:VTIMEZONE
TZID:Europe/Madrid
X-LIC-LOCATION:Europe/Madrid
BEGIN:STANDARD
DTSTART;VALUE=DATE-TIME:20241027T020000
TZNAME:CET
TZOFFSETFROM:+0200
TZOFFSETTO:+0100
END:STANDARD
END:VTIMEZONE
END:VCALENDAR
