BEGIN:VCALENDAR
VERSION:2.0
PRODID:-//Plone.org//NONSGML plone.app.event//EN
X-WR-TIMEZONE:Europe/Madrid
BEGIN:VEVENT
SUMMARY:Concert : Elisabeth Leonskaja & Franz Schubert Filharmonia
DTSTART;TZID=Europe/Madrid;VALUE=DATE-TIME:20230115T190000
DTEND;TZID=Europe/Madrid;VALUE=DATE-TIME:20230115T210000
DTSTAMP;VALUE=DATE-TIME:20260423T111025Z
UID:93171151ede048689f6cc55468df5ef1@www.paeria.cat
CATEGORIES:Cultura,Música
CREATED;VALUE=DATE-TIME:20221229T135530Z
LAST-MODIFIED;VALUE=DATE-TIME:20260415T084237Z
URL:https://www.paeria.cat/ca/actualitat/agenda/concert-elisabeth-leonskaj
 a-franz-schubert-filharmonia
END:VEVENT
BEGIN:VTIMEZONE
TZID:Europe/Madrid
X-LIC-LOCATION:Europe/Madrid
BEGIN:STANDARD
DTSTART;VALUE=DATE-TIME:20221030T020000
TZNAME:CET
TZOFFSETFROM:+0200
TZOFFSETTO:+0100
END:STANDARD
END:VTIMEZONE
END:VCALENDAR
