BEGIN:VCALENDAR
VERSION:2.0
PRODID:-//Plone.org//NONSGML plone.app.event//EN
X-WR-TIMEZONE:Europe/Madrid
BEGIN:VEVENT
SUMMARY:Concert- Estamos en ello
DTSTART;TZID=Europe/Madrid;VALUE=DATE-TIME:20241010T213000
DTSTAMP;VALUE=DATE-TIME:20260422T062546Z
UID:d2e3378b5a2e46f38e7fca9979b19367@www.paeria.cat
CATEGORIES:Música,Cultura
CREATED;VALUE=DATE-TIME:20241008T155837Z
LAST-MODIFIED;VALUE=DATE-TIME:20241008T161100Z
URL:https://www.paeria.cat/ca/actualitat/agenda/concert-estamos-en-ello
END:VEVENT
BEGIN:VTIMEZONE
TZID:Europe/Madrid
X-LIC-LOCATION:Europe/Madrid
BEGIN:DAYLIGHT
DTSTART;VALUE=DATE-TIME:20240331T030000
TZNAME:CEST
TZOFFSETFROM:+0100
TZOFFSETTO:+0200
END:DAYLIGHT
END:VTIMEZONE
END:VCALENDAR
