BEGIN:VCALENDAR
VERSION:2.0
PRODID:-//Plone.org//NONSGML plone.app.event//EN
X-WR-TIMEZONE:Europe/Madrid
BEGIN:VEVENT
SUMMARY:Concert Girish and The Chronicles + Pandora
DTSTART;TZID=Europe/Madrid;VALUE=DATE-TIME:20241123T213000
DTSTAMP;VALUE=DATE-TIME:20260421T210919Z
UID:abf938c697cc4b8e9cc10b8afde10165@www.paeria.cat
CATEGORIES:Música,Cultura
CREATED;VALUE=DATE-TIME:20241104T085830Z
LAST-MODIFIED;VALUE=DATE-TIME:20241104T090159Z
URL:https://www.paeria.cat/ca/actualitat/agenda/concert-girish-and-the-chr
 onicles-pandora
END:VEVENT
BEGIN:VTIMEZONE
TZID:Europe/Madrid
X-LIC-LOCATION:Europe/Madrid
BEGIN:STANDARD
DTSTART;VALUE=DATE-TIME:20241027T020000
TZNAME:CET
TZOFFSETFROM:+0200
TZOFFSETTO:+0100
END:STANDARD
END:VTIMEZONE
END:VCALENDAR
