BEGIN:VCALENDAR
VERSION:2.0
PRODID:-//Plone.org//NONSGML plone.app.event//EN
X-WR-TIMEZONE:Europe/Madrid
BEGIN:VEVENT
SUMMARY:Concert i trobada solidaria en benefici de Fundació Lleida Solida
 ria
DTSTART;TZID=Europe/Madrid;VALUE=DATE-TIME:20240126T190000
DTEND;TZID=Europe/Madrid;VALUE=DATE-TIME:20240126T210000
DTSTAMP;VALUE=DATE-TIME:20260422T200053Z
UID:e932877e929a4ac48413d3e24d14a6ee@www.paeria.cat
CATEGORIES:Música,Ciutadania
CREATED;VALUE=DATE-TIME:20240112T132012Z
DESCRIPTION:Trobada solidaria i concert amb músics burkinabesos\, per con
 èixer i donar suport a projectes de la Fundació Lleida Solidària.\n\nEs
 pai Orfeó Lleidatà\nDivendres 26 de gener a les 19:00h (C/ Sant Martí\,
  60-62)
LAST-MODIFIED;VALUE=DATE-TIME:20250514T073206Z
URL:https://www.paeria.cat/ca/actualitat/agenda/concert-i-trobada-solidari
 a-en-benefici-de-fundacio-lleida-solidaria
END:VEVENT
BEGIN:VTIMEZONE
TZID:Europe/Madrid
X-LIC-LOCATION:Europe/Madrid
BEGIN:STANDARD
DTSTART;VALUE=DATE-TIME:20231029T020000
TZNAME:CET
TZOFFSETFROM:+0200
TZOFFSETTO:+0100
END:STANDARD
END:VTIMEZONE
END:VCALENDAR
