BEGIN:VCALENDAR
VERSION:2.0
PRODID:-//Plone.org//NONSGML plone.app.event//EN
X-WR-TIMEZONE:Europe/Madrid
BEGIN:VEVENT
SUMMARY:Concert Lozano y Los Frentes Abiertos
DTSTART;TZID=Europe/Madrid;VALUE=DATE-TIME:20241228T203000
DTSTAMP;VALUE=DATE-TIME:20260423T125417Z
UID:61a6b81e6de24218bc9b2b3cca14d48a@www.paeria.cat
CATEGORIES:Música,Cultura
CREATED;VALUE=DATE-TIME:20241204T090445Z
LAST-MODIFIED;VALUE=DATE-TIME:20241204T090659Z
URL:https://www.paeria.cat/ca/actualitat/agenda/concert-lozano-y-los-frent
 es-abiertos
END:VEVENT
BEGIN:VTIMEZONE
TZID:Europe/Madrid
X-LIC-LOCATION:Europe/Madrid
BEGIN:STANDARD
DTSTART;VALUE=DATE-TIME:20241027T020000
TZNAME:CET
TZOFFSETFROM:+0200
TZOFFSETTO:+0100
END:STANDARD
END:VTIMEZONE
END:VCALENDAR
