BEGIN:VCALENDAR
VERSION:2.0
PRODID:-//Plone.org//NONSGML plone.app.event//EN
X-WR-TIMEZONE:Europe/Madrid
BEGIN:VEVENT
SUMMARY:Concert per la Pau – NO a les guerres\, no al rearmament
DTSTART;TZID=Europe/Madrid;VALUE=DATE-TIME:20251023T190000
DTEND;TZID=Europe/Madrid;VALUE=DATE-TIME:20251023T203000
DTSTAMP;VALUE=DATE-TIME:20260420T045708Z
UID:481709f9bffe46109d6002cca150e13a@www.paeria.cat
CATEGORIES:Adult,Público,Música,Cultura
CREATED;VALUE=DATE-TIME:20251016T115727Z
DESCRIPTION:La Plataforma Aturem les Guerres\, amb la col·laboració de l
 a Regidoria de Cooperació de l’Ajuntament de Lleida i el Fòrum Català
  per la Pau\, organitza un concert col·lectiu per la pau amb la participa
 ció de més de 200 cantaires de diferents corals de la ciutat.
LAST-MODIFIED;VALUE=DATE-TIME:20251016T120220Z
URL:https://www.paeria.cat/ca/actualitat/agenda/concert-per-la-pau-2013-no
 -a-les-guerres-no-al-rearmament
END:VEVENT
BEGIN:VTIMEZONE
TZID:Europe/Madrid
X-LIC-LOCATION:Europe/Madrid
BEGIN:DAYLIGHT
DTSTART;VALUE=DATE-TIME:20250330T030000
TZNAME:CEST
TZOFFSETFROM:+0100
TZOFFSETTO:+0200
END:DAYLIGHT
END:VTIMEZONE
END:VCALENDAR
