BEGIN:VCALENDAR
VERSION:2.0
PRODID:-//Plone.org//NONSGML plone.app.event//EN
X-WR-TIMEZONE:Europe/Madrid
BEGIN:VEVENT
SUMMARY:Concert Sandra Bautista
DTSTART;TZID=Europe/Madrid;VALUE=DATE-TIME:20241129T223000
DTSTAMP;VALUE=DATE-TIME:20260424T154641Z
UID:7a4015e69179439784b77b893e6c4f24@www.paeria.cat
CATEGORIES:Música,Cultura
CREATED;VALUE=DATE-TIME:20241125T062819Z
LAST-MODIFIED;VALUE=DATE-TIME:20241125T063034Z
URL:https://www.paeria.cat/ca/actualitat/agenda/concert-sandra-bautista-1
END:VEVENT
BEGIN:VTIMEZONE
TZID:Europe/Madrid
X-LIC-LOCATION:Europe/Madrid
BEGIN:STANDARD
DTSTART;VALUE=DATE-TIME:20241027T020000
TZNAME:CET
TZOFFSETFROM:+0200
TZOFFSETTO:+0100
END:STANDARD
END:VTIMEZONE
END:VCALENDAR
