BEGIN:VCALENDAR
VERSION:2.0
PRODID:-//Plone.org//NONSGML plone.app.event//EN
X-WR-TIMEZONE:Europe/Madrid
BEGIN:VEVENT
SUMMARY:Concert tribut a The Cure\, U2 & Depeche Mode
DTSTART;TZID=Europe/Madrid;VALUE=DATE-TIME:20241116T210000
DTSTAMP;VALUE=DATE-TIME:20260421T223538Z
UID:3b1c73c45f044b60885955e0e47c209f@www.paeria.cat
CATEGORIES:Música,Cultura
CREATED;VALUE=DATE-TIME:20240913T083049Z
LAST-MODIFIED;VALUE=DATE-TIME:20240913T083349Z
URL:https://www.paeria.cat/ca/actualitat/agenda/concert-tribut-a-the-cure-
 u2-depeche-mode
END:VEVENT
BEGIN:VTIMEZONE
TZID:Europe/Madrid
X-LIC-LOCATION:Europe/Madrid
BEGIN:STANDARD
DTSTART;VALUE=DATE-TIME:20241027T020000
TZNAME:CET
TZOFFSETFROM:+0200
TZOFFSETTO:+0100
END:STANDARD
END:VTIMEZONE
END:VCALENDAR
