BEGIN:VCALENDAR
VERSION:2.0
PRODID:-//Plone.org//NONSGML plone.app.event//EN
X-WR-TIMEZONE:Europe/Madrid
BEGIN:VEVENT
SUMMARY:Conferència a l'entorn del concert que oferirà l'OBC el dia 25/0
 2  "L'ocell de foc"
DTSTART;TZID=Europe/Madrid;VALUE=DATE-TIME:20240215T180000
DTEND;TZID=Europe/Madrid;VALUE=DATE-TIME:20240215T190000
DTSTAMP;VALUE=DATE-TIME:20260422T170624Z
UID:b76c66d7cc0b4d1b8e992c546244255b@www.paeria.cat
CATEGORIES:Públic,Cultura,Xerrades i conferències,Ciutadania
CREATED;VALUE=DATE-TIME:20240117T092444Z
DESCRIPTION:Conferència dins del cicle Parlem de música\, una eina per
  anar de concert\, amb Albert Ferrer Flamarich.
LAST-MODIFIED;VALUE=DATE-TIME:20260415T084341Z
URL:https://www.paeria.cat/ca/actualitat/agenda/conferencia-a-lentorn-del-
 concert-que-oferira-lobc-el-dia-25-02-locell-de-foc
END:VEVENT
BEGIN:VTIMEZONE
TZID:Europe/Madrid
X-LIC-LOCATION:Europe/Madrid
BEGIN:STANDARD
DTSTART;VALUE=DATE-TIME:20231029T020000
TZNAME:CET
TZOFFSETFROM:+0200
TZOFFSETTO:+0100
END:STANDARD
END:VTIMEZONE
END:VCALENDAR
