BEGIN:VCALENDAR
VERSION:2.0
PRODID:-//Plone.org//NONSGML plone.app.event//EN
X-WR-TIMEZONE:Europe/Madrid
BEGIN:VEVENT
SUMMARY:Conferència - Aproximació a l’espectacle que l'Orquestra Simf
 ònica del Vallès ens oferirà el 9/02 a l'Auditori i  que gira a l’ent
 orn de Chopin i la seva relació amb George Sand mitjançant la seva corre
 spondència.
DTSTART;TZID=Europe/Madrid;VALUE=DATE-TIME:20240306T183000
DTEND;TZID=Europe/Madrid;VALUE=DATE-TIME:20240306T193000
DTSTAMP;VALUE=DATE-TIME:20260422T190239Z
UID:35b0958f2df348f4a18b56fb8de22fcf@www.paeria.cat
CATEGORIES:Llibres i literatura,Cultura,Xerrades i conferències,Música
CREATED;VALUE=DATE-TIME:20240117T093256Z
DESCRIPTION:Conferència dins del cicle Parlem de música\, una eina per a
 nar de concert amb Albert Ferrer Flamarich
LAST-MODIFIED;VALUE=DATE-TIME:20260415T084341Z
URL:https://www.paeria.cat/ca/actualitat/agenda/conferencia-aproximacio-a-
 l2019espectacle-que-lorquestra-simfonica-del-valles-ens-oferira-el-9-02-a-
 lauditori-i-que-gira-a-l2019entorn-de-chopin-i-la-seva-relacio-amb-george-
 sand-mitjancant-la-seva-correspondencia
END:VEVENT
BEGIN:VTIMEZONE
TZID:Europe/Madrid
X-LIC-LOCATION:Europe/Madrid
BEGIN:STANDARD
DTSTART;VALUE=DATE-TIME:20231029T020000
TZNAME:CET
TZOFFSETFROM:+0200
TZOFFSETTO:+0100
END:STANDARD
END:VTIMEZONE
END:VCALENDAR
