BEGIN:VCALENDAR
VERSION:2.0
PRODID:-//Plone.org//NONSGML plone.app.event//EN
X-WR-TIMEZONE:Europe/Madrid
BEGIN:VEVENT
SUMMARY:Conferència "La simfonia del nou món i la música negra" a càrr
 ec de David Esterri
DTSTART;TZID=Europe/Madrid;VALUE=DATE-TIME:20230518T190000
DTEND;TZID=Europe/Madrid;VALUE=DATE-TIME:20230518T200000
DTSTAMP;VALUE=DATE-TIME:20260423T051908Z
UID:7dc436d898ca44a3bb845a7d89c71b81@www.paeria.cat
CATEGORIES:Música,Xerrades i conferències,Públic,Cultura
CREATED;VALUE=DATE-TIME:20230306T121714Z
DESCRIPTION:Darrera conferència del cicle PARLEM DE MÚSICA\, UNA EINA PE
 R ANAR DE CONCERT\nEn aquest cas\, David Esterri músic\, compositor i ped
 agog\, ens parlarà de "La Simfonia del nou món i la música negra"\n\n".
 .. la futura música dels Estats Units s'ha de fonamentar en el que es sol
  anomenar com a melodies negres."\nDvorák\, 1893
LAST-MODIFIED;VALUE=DATE-TIME:20260202T123624Z
URL:https://www.paeria.cat/ca/actualitat/agenda/conferencia-la-simfonia-dl
 e-nou-mon-i-la-musica-negra
END:VEVENT
BEGIN:VTIMEZONE
TZID:Europe/Madrid
X-LIC-LOCATION:Europe/Madrid
BEGIN:DAYLIGHT
DTSTART;VALUE=DATE-TIME:20230326T030000
TZNAME:CEST
TZOFFSETFROM:+0100
TZOFFSETTO:+0200
END:DAYLIGHT
END:VTIMEZONE
END:VCALENDAR
