BEGIN:VCALENDAR
VERSION:2.0
PRODID:-//Plone.org//NONSGML plone.app.event//EN
X-WR-TIMEZONE:Europe/Madrid
BEGIN:VEVENT
SUMMARY:Conferència sobre l'Escolania de Montserrat a càrrec d'Albert Fe
 rrer Flamarich
DTSTART;TZID=Europe/Madrid;VALUE=DATE-TIME:20231214T183000
DTEND;TZID=Europe/Madrid;VALUE=DATE-TIME:20231214T193000
DTSTAMP;VALUE=DATE-TIME:20260423T001951Z
UID:f8cc1746ee514f62bbb7722b09066c33@www.paeria.cat
CATEGORIES:Públic,Cultura,Xerrades i conferències,Música
CREATED;VALUE=DATE-TIME:20230719T102055Z
DESCRIPTION:Cicle de conferències " Parlem de Música\, una eina per anar
  de concert" de la Biblioteca-Fonoteca de l'Auditori Municipal Enric Grana
 dos\, 4a planta de l'Auditori\, entrada lliure.
LAST-MODIFIED;VALUE=DATE-TIME:20260415T084308Z
URL:https://www.paeria.cat/ca/actualitat/agenda/conferencia-sobre-lescolan
 ia-de-montserrat-a-carrec-dalbert-ferrer-flamarich
END:VEVENT
BEGIN:VTIMEZONE
TZID:Europe/Madrid
X-LIC-LOCATION:Europe/Madrid
BEGIN:STANDARD
DTSTART;VALUE=DATE-TIME:20231029T020000
TZNAME:CET
TZOFFSETFROM:+0200
TZOFFSETTO:+0100
END:STANDARD
END:VTIMEZONE
END:VCALENDAR
