BEGIN:VCALENDAR
VERSION:2.0
PRODID:-//Plone.org//NONSGML plone.app.event//EN
X-WR-TIMEZONE:Europe/Madrid
BEGIN:VEVENT
SUMMARY:II Connectant valors: Jornada sobre Responsabilitat Social Corpora
 tiva (RSC). Xarxa entre empreses i ONGD's
DTSTART;TZID=Europe/Madrid;VALUE=DATE-TIME:20250605T090000
DTEND;TZID=Europe/Madrid;VALUE=DATE-TIME:20250605T130000
DTSTAMP;VALUE=DATE-TIME:20260422T122000Z
UID:eb1f2f2b038b4d548ecd6b3f9dea9542@www.paeria.cat
CREATED;VALUE=DATE-TIME:20250603T101448Z
DESCRIPTION:IMO Lleida i Regidoria de Cooperació ofereixen una jornada so
 bre la RSC entre ONGD i empreses. La finalitat de la jornada és que les e
 mpreses de Lleida coneguin els projectes de cooperació internacional de l
 es ONGD de la ciutat i puguin trobar vincles de col·laboració. Voleu sab
 er què és la RSC? Com aplicar-la? Quins exemples tenim a Lleida?\n\nData
  i hora: 5 de juny\, de 09:00h a 13:00h\nLloc: Teatre de la Llotja de Llei
 da (Av. de Tortosa\, 6)
LAST-MODIFIED;VALUE=DATE-TIME:20250603T121712Z
URL:https://www.paeria.cat/ca/actualitat/agenda/connectant-valors-jornada-
 sobre-responsabilitat-social-corporativa-rsc-xarxa-entre-empreses-i-ongds-
 1
END:VEVENT
BEGIN:VTIMEZONE
TZID:Europe/Madrid
X-LIC-LOCATION:Europe/Madrid
BEGIN:DAYLIGHT
DTSTART;VALUE=DATE-TIME:20250330T030000
TZNAME:CEST
TZOFFSETFROM:+0100
TZOFFSETTO:+0200
END:DAYLIGHT
END:VTIMEZONE
END:VCALENDAR
