BEGIN:VCALENDAR
VERSION:2.0
PRODID:-//Plone.org//NONSGML plone.app.event//EN
X-WR-TIMEZONE:Europe/Madrid
BEGIN:VEVENT
SUMMARY:Connectant valors: Jornada sobre Responsabilitat Social Corporativ
 a (RSC). Xarxa entre empreses i ONGD's
DTSTART;TZID=Europe/Madrid;VALUE=DATE-TIME:20241105T090000
DTEND;TZID=Europe/Madrid;VALUE=DATE-TIME:20241105T140000
DTSTAMP;VALUE=DATE-TIME:20260423T073702Z
UID:c49e8f5e33554405b8a407e9dfe857e4@www.paeria.cat
CATEGORIES:Públic,Xerrades i conferències,Ciutadania
CREATED;VALUE=DATE-TIME:20241030T130140Z
DESCRIPTION:IMO Lleida i Regidoria de Cooperació ofereixen una jornada so
 bre la RSC entre ONGD i empreses. La finalitat de la jornada és que les e
 mpreses de Lleida coneguin els projectes de cooperació internacional de l
 es ONGD de la ciutat i puguin trobar vincles de col·laboració. Voleu sab
 er què és la RSC? Com aplicar-la? Quins exemples tenim a Lleida?\n\nData
  i hora: 5 de novembre\, de 10:00h a 14:00h\nLloc: Teatre de la Llotja de 
 Lleida (Av. de Tortosa\, 6)
LAST-MODIFIED;VALUE=DATE-TIME:20250603T101931Z
URL:https://www.paeria.cat/ca/actualitat/agenda/connectant-valors-jornada-
 sobre-responsabilitat-social-corporativa-rsc-xarxa-entre-empreses-i-ongds
END:VEVENT
BEGIN:VTIMEZONE
TZID:Europe/Madrid
X-LIC-LOCATION:Europe/Madrid
BEGIN:STANDARD
DTSTART;VALUE=DATE-TIME:20241027T020000
TZNAME:CET
TZOFFSETFROM:+0200
TZOFFSETTO:+0100
END:STANDARD
END:VTIMEZONE
END:VCALENDAR
