BEGIN:VCALENDAR
VERSION:2.0
PRODID:-//Plone.org//NONSGML plone.app.event//EN
X-WR-TIMEZONE:Europe/Madrid
BEGIN:VEVENT
SUMMARY:CONSPIRAR ÉS GRATIS: PER QUÈ LES TEORIES DE LA CONSPIRACIÓ ENS 
 SEDUEIXEN?
DTSTART;TZID=Europe/Madrid;VALUE=DATE-TIME:20260324T190000
DTEND;TZID=Europe/Madrid;VALUE=DATE-TIME:20260324T203000
DTSTAMP;VALUE=DATE-TIME:20260422T060841Z
UID:5a4a1631dcdb47919882f0e8812b75fd@www.paeria.cat
CATEGORIES:Tots els públics,Xerrades i conferències,Cultura
CREATED;VALUE=DATE-TIME:20260306T114629Z
DESCRIPTION:El Departament de Drets Civils de la Paeria presenta una nova 
 edició dels Debats de Memòria\, que tindrà lloc el dimarts 24 de març 
 de 2026\, amb la conferència “Conspirar és gratis: per què les teorie
 s de la conspiració ens sedueixen?”\, a càrrec del professor de la Uni
 versidad Rey Juan Carlos de Madrid\, Luis Pablo Francescutti Pérez.
LAST-MODIFIED;VALUE=DATE-TIME:20260306T114645Z
URL:https://www.paeria.cat/ca/actualitat/agenda/conspirar-es-gratis-per-qu
 e-les-teories-de-la-conspiracio-ens-sedueixen
END:VEVENT
BEGIN:VTIMEZONE
TZID:Europe/Madrid
X-LIC-LOCATION:Europe/Madrid
BEGIN:STANDARD
DTSTART;VALUE=DATE-TIME:20251026T020000
TZNAME:CET
TZOFFSETFROM:+0200
TZOFFSETTO:+0100
END:STANDARD
END:VTIMEZONE
END:VCALENDAR
